BEGIN:VCALENDAR
VERSION:2.0
PRODID:-//OsakaLive//OsakaLive//EN
CALSCALE:GREGORIAN
METHOD:PUBLISH
BEGIN:VEVENT
UID:93c586a7-5c5d-41f9-9784-f8bbeb6b73de@osaka-live.app
DTSTAMP:20260425T004004Z
DTSTART;VALUE=DATE:20270517
DTEND;VALUE=DATE:20270518
SUMMARY:■セイクリッド・ソウルズ／Thee Sacred Souls
LOCATION:Grand Cube Osaka\, Osaka\, Japan
END:VEVENT
END:VCALENDAR
