BEGIN:VCALENDAR
VERSION:2.0
PRODID:-//OsakaLive//OsakaLive//EN
CALSCALE:GREGORIAN
METHOD:PUBLISH
BEGIN:VEVENT
UID:93b05de8-4989-4fbd-bd4c-9d0c70c171de@osaka-live.app
DTSTAMP:20260424T133858Z
DTSTART;TZID=Asia/Tokyo:20260603T1900:0000
DTEND;TZID=Asia/Tokyo:20260603T210000
SUMMARY:MASSATSU GIG vol.67
LOCATION:Namba BEARS\, Osaka\, Japan
DESCRIPTION:Adv ¥2,000 / Door ¥2,000\nDoors 18:30:00\nStart 19:00:00
END:VEVENT
END:VCALENDAR
