BEGIN:VCALENDAR
VERSION:2.0
PRODID:-//OsakaLive//OsakaLive//EN
CALSCALE:GREGORIAN
METHOD:PUBLISH
BEGIN:VEVENT
UID:933f131a-66d1-445a-a7c2-ccc08112ad25@osaka-live.app
DTSTAMP:20260424T122744Z
DTSTART;TZID=Asia/Tokyo:20260508T1900:0000
DTEND;TZID=Asia/Tokyo:20260508T210000
SUMMARY:HAWTHORNE HEIGHTS "LONELY WORLD TOUR JAPAN 2026"
LOCATION:Yogibo META VALLEY\, Osaka\, Japan
DESCRIPTION:Adv ¥6,500 / Door ¥22,000\nDoors 18:15:00\nStart 19:00:00
END:VEVENT
END:VCALENDAR
