BEGIN:VCALENDAR
VERSION:2.0
PRODID:-//OsakaLive//OsakaLive//EN
CALSCALE:GREGORIAN
METHOD:PUBLISH
BEGIN:VEVENT
UID:933bffdb-2243-486f-b346-992d8c1e5b79@osaka-live.app
DTSTAMP:20260424T122743Z
DTSTART;VALUE=DATE:20260428
DTEND;VALUE=DATE:20260429
SUMMARY:cadode「SLICE OF SEKAI ROUTE 1
LOCATION:Umeda Zeela\, Osaka\, Japan
DESCRIPTION:Adv ¥4,900 / Door ¥5,400
END:VEVENT
END:VCALENDAR
