BEGIN:VCALENDAR
VERSION:2.0
PRODID:-//OsakaLive//OsakaLive//EN
CALSCALE:GREGORIAN
METHOD:PUBLISH
BEGIN:VEVENT
UID:92cece1e-ae81-4794-a437-aa9029d290b9@osaka-live.app
DTSTAMP:20260424T135528Z
DTSTART;VALUE=DATE:20260719
DTEND;VALUE=DATE:20260720
SUMMARY:FIXED /second to none
LOCATION:Namba BEARS\, Osaka\, Japan
END:VEVENT
END:VCALENDAR
