BEGIN:VCALENDAR
VERSION:2.0
PRODID:-//OsakaLive//OsakaLive//EN
CALSCALE:GREGORIAN
METHOD:PUBLISH
BEGIN:VEVENT
UID:928b08af-f364-469f-83a9-4980756fd17a@osaka-live.app
DTSTAMP:20260424T134852Z
DTSTART;TZID=Asia/Tokyo:20260523T1700:0000
DTEND;TZID=Asia/Tokyo:20260523T190000
SUMMARY:フィロソフィーのダンス
LOCATION:Yogibo META VALLEY\, Osaka\, Japan
DESCRIPTION:Adv ¥5,000 / Door ¥1,000\nDoors 16:15:00\nStart 17:00:00
END:VEVENT
END:VCALENDAR
