BEGIN:VCALENDAR
VERSION:2.0
PRODID:-//OsakaLive//OsakaLive//EN
CALSCALE:GREGORIAN
METHOD:PUBLISH
BEGIN:VEVENT
UID:91fbf5bc-4b70-42d4-8ed7-07942bc7acfe@osaka-live.app
DTSTAMP:20260424T135832Z
DTSTART;TZID=Asia/Tokyo:20260705T1800:0000
DTEND;TZID=Asia/Tokyo:20260705T200000
SUMMARY:MONO "Snoedrop" Japan Tour 2026
LOCATION:Yogibo META VALLEY\, Osaka\, Japan
DESCRIPTION:Adv ¥7,000 / Door ¥8,000\nDoors 17:00:00\nStart 18:00:00
END:VEVENT
END:VCALENDAR
