BEGIN:VCALENDAR
VERSION:2.0
PRODID:-//OsakaLive//OsakaLive//EN
CALSCALE:GREGORIAN
METHOD:PUBLISH
BEGIN:VEVENT
UID:910f78cd-048e-4ab3-82c4-d2e350856619@osaka-live.app
DTSTAMP:20260424T121746Z
DTSTART;VALUE=DATE:20260503
DTEND;VALUE=DATE:20260504
SUMMARY:Namba BEARS
LOCATION:Namba BEARS\, Osaka\, Japan
END:VEVENT
END:VCALENDAR
