BEGIN:VCALENDAR
VERSION:2.0
PRODID:-//OsakaLive//OsakaLive//EN
CALSCALE:GREGORIAN
METHOD:PUBLISH
BEGIN:VEVENT
UID:90a7d897-1cb3-4e1b-a3b8-57a8cdd45b08@osaka-live.app
DTSTAMP:20260424T123356Z
DTSTART;VALUE=DATE:20260410
DTEND;VALUE=DATE:20260411
SUMMARY:鳴ル-ON -なるおん学園 制服公演編
LOCATION:Americamura DROP\, Osaka\, Japan
END:VEVENT
END:VCALENDAR
