BEGIN:VCALENDAR
VERSION:2.0
PRODID:-//OsakaLive//OsakaLive//EN
CALSCALE:GREGORIAN
METHOD:PUBLISH
BEGIN:VEVENT
UID:90a20de5-ae50-4bb4-90fe-f94162523adb@osaka-live.app
DTSTAMP:20260424T140154Z
DTSTART;TZID=Asia/Tokyo:20260705T1200:0000
DTEND;TZID=Asia/Tokyo:20260705T140000
SUMMARY:THE KNOCKERS
LOCATION:Namba BEARS\, Osaka\, Japan
DESCRIPTION:Adv ¥2,500 / Door ¥1,000\nDoors 11:30:00\nStart 12:00:00
END:VEVENT
END:VCALENDAR
