BEGIN:VCALENDAR
VERSION:2.0
PRODID:-//OsakaLive//OsakaLive//EN
CALSCALE:GREGORIAN
METHOD:PUBLISH
BEGIN:VEVENT
UID:906ee3a0-8a86-40d8-8132-ea304b046d9e@osaka-live.app
DTSTAMP:20260424T123438Z
DTSTART;VALUE=DATE:20260422
DTEND;VALUE=DATE:20260423
SUMMARY:Zeela pre. "HANAMARU PLAN"
LOCATION:Umeda Zeela\, Osaka\, Japan
DESCRIPTION:Adv ¥2,800 / Door ¥3,300
END:VEVENT
END:VCALENDAR
