BEGIN:VCALENDAR
VERSION:2.0
PRODID:-//OsakaLive//OsakaLive//EN
CALSCALE:GREGORIAN
METHOD:PUBLISH
BEGIN:VEVENT
UID:8f7dc2b9-c1d1-4b86-a603-7e7ee1ec0de4@osaka-live.app
DTSTAMP:20260424T135703Z
DTSTART;TZID=Asia/Tokyo:20260614T1800:0000
DTEND;TZID=Asia/Tokyo:20260614T200000
SUMMARY:kurayamisaka tte\, doko? #7 「くらやみざかより愛を込めてツアー2
LOCATION:Yogibo META VALLEY\, Osaka\, Japan
DESCRIPTION:Adv ¥4,800 / Door ¥5,000\nDoors 17:00:00\nStart 18:00:00
END:VEVENT
END:VCALENDAR
