BEGIN:VCALENDAR
VERSION:2.0
PRODID:-//OsakaLive//OsakaLive//EN
CALSCALE:GREGORIAN
METHOD:PUBLISH
BEGIN:VEVENT
UID:8f457a3a-98e9-46a5-960b-1553a01c6b8e@osaka-live.app
DTSTAMP:20260425T003712Z
DTSTART;VALUE=DATE:20270531
DTEND;VALUE=DATE:20270601
SUMMARY:5月29日（東京　新宿ANTIKNOCK
LOCATION:Osaka Ruido\, Namba\, Chuo Ward\, Osaka
END:VEVENT
END:VCALENDAR
