BEGIN:VCALENDAR
VERSION:2.0
PRODID:-//OsakaLive//OsakaLive//EN
CALSCALE:GREGORIAN
METHOD:PUBLISH
BEGIN:VEVENT
UID:8f365488-c6f2-41bc-b6de-c5bf1f11f7fa@osaka-live.app
DTSTAMP:20260424T134402Z
DTSTART;TZID=Asia/Tokyo:20260629T1930:0000
DTEND;TZID=Asia/Tokyo:20260629T213000
SUMMARY:Nikoん「群雄割拠
LOCATION:Namba BEARS\, Osaka\, Japan
DESCRIPTION:Adv ¥2,500 / Door ¥2,500\nDoors 19:00:00\nStart 19:30:00
END:VEVENT
END:VCALENDAR
