BEGIN:VCALENDAR
VERSION:2.0
PRODID:-//OsakaLive//OsakaLive//EN
CALSCALE:GREGORIAN
METHOD:PUBLISH
BEGIN:VEVENT
UID:8dd18cc8-70e8-446e-aa56-06f6c87dc143@osaka-live.app
DTSTAMP:20260424T154315Z
DTSTART;VALUE=DATE:20260402
DTEND;VALUE=DATE:20260403
SUMMARY:大阪電気通信大学 主催ジョイント
LOCATION:Umeda Zeela\, Osaka\, Japan
DESCRIPTION:Adv ¥700 / Door ¥700
END:VEVENT
END:VCALENDAR
