BEGIN:VCALENDAR
VERSION:2.0
PRODID:-//OsakaLive//OsakaLive//EN
CALSCALE:GREGORIAN
METHOD:PUBLISH
BEGIN:VEVENT
UID:8db2c351-fd08-4968-b32f-3bd0cd05476c@osaka-live.app
DTSTAMP:20260424T121525Z
DTSTART;VALUE=DATE:20260425
DTEND;VALUE=DATE:20260426
SUMMARY:SATSUMA 3042 還暦祭　"60th Anniversary of SATSUMA s Birth"
LOCATION:Umeda Zeela\, Osaka\, Japan
DESCRIPTION:Adv ¥5,150 / Door ¥5,500
END:VEVENT
END:VCALENDAR
