BEGIN:VCALENDAR
VERSION:2.0
PRODID:-//OsakaLive//OsakaLive//EN
CALSCALE:GREGORIAN
METHOD:PUBLISH
BEGIN:VEVENT
UID:8da0c15d-c7fd-49ff-8d75-54b2765ae2d8@osaka-live.app
DTSTAMP:20260424T135645Z
DTSTART;TZID=Asia/Tokyo:20260524T1500:0000
DTEND;TZID=Asia/Tokyo:20260524T170000
SUMMARY:割礼 ワンマン
LOCATION:Namba BEARS\, Osaka\, Japan
DESCRIPTION:Adv ¥3,000 / Door ¥3,500\nDoors 14:30:00\nStart 15:00:00
END:VEVENT
END:VCALENDAR
