BEGIN:VCALENDAR
VERSION:2.0
PRODID:-//OsakaLive//OsakaLive//EN
CALSCALE:GREGORIAN
METHOD:PUBLISH
BEGIN:VEVENT
UID:8d9fab7e-b647-4e1c-bdd9-15527fe904c9@osaka-live.app
DTSTAMP:20260425T002227Z
DTSTART;VALUE=DATE:20270428
DTEND;VALUE=DATE:20270429
SUMMARY:■クラフトワーク／Kraftwerk
LOCATION:Grand Cube Osaka\, Osaka\, Japan
END:VEVENT
END:VCALENDAR
