BEGIN:VCALENDAR
VERSION:2.0
PRODID:-//OsakaLive//OsakaLive//EN
CALSCALE:GREGORIAN
METHOD:PUBLISH
BEGIN:VEVENT
UID:8d4f084c-6388-4559-bb52-0c5197ba209c@osaka-live.app
DTSTAMP:20260425T003712Z
DTSTART;VALUE=DATE:20270718
DTEND;VALUE=DATE:20270719
SUMMARY:■Uada
LOCATION:Osaka Ruido\, Namba\, Chuo Ward\, Osaka
END:VEVENT
END:VCALENDAR
