BEGIN:VCALENDAR
VERSION:2.0
PRODID:-//OsakaLive//OsakaLive//EN
CALSCALE:GREGORIAN
METHOD:PUBLISH
BEGIN:VEVENT
UID:8cbd74a0-5726-4fd0-834f-0dc64f73cca1@osaka-live.app
DTSTAMP:20260424T135839Z
DTSTART;VALUE=DATE:20260601
DTEND;VALUE=DATE:20260602
SUMMARY:fuk 150
LOCATION:Namba BEARS\, Osaka\, Japan
END:VEVENT
END:VCALENDAR
