BEGIN:VCALENDAR
VERSION:2.0
PRODID:-//OsakaLive//OsakaLive//EN
CALSCALE:GREGORIAN
METHOD:PUBLISH
BEGIN:VEVENT
UID:8ba04cb2-c4f9-4db5-a309-e24c02f652f0@osaka-live.app
DTSTAMP:20260424T135518Z
DTSTART;TZID=Asia/Tokyo:20260618T1930:0000
DTEND;TZID=Asia/Tokyo:20260618T213000
SUMMARY:TONE DEAF presents..
LOCATION:Namba BEARS\, Osaka\, Japan
DESCRIPTION:Adv ¥2,500 / Door ¥3,000\nDoors 19:00:00\nStart 19:30:00
END:VEVENT
END:VCALENDAR
