BEGIN:VCALENDAR
VERSION:2.0
PRODID:-//OsakaLive//OsakaLive//EN
CALSCALE:GREGORIAN
METHOD:PUBLISH
BEGIN:VEVENT
UID:8b202715-a1e1-4629-b0e1-a1fdbd7343d3@osaka-live.app
DTSTAMP:20260424T123746Z
DTSTART;TZID=Asia/Tokyo:20260401T1900:0000
DTEND;TZID=Asia/Tokyo:20260401T210000
SUMMARY:破邪顕正 Vol.06
LOCATION:Namba BEARS\, Osaka\, Japan
DESCRIPTION:Adv ¥2,500 / Door ¥2,500\nDoors 18:30:00\nStart 19:00:00
END:VEVENT
END:VCALENDAR
