BEGIN:VCALENDAR
VERSION:2.0
PRODID:-//OsakaLive//OsakaLive//EN
CALSCALE:GREGORIAN
METHOD:PUBLISH
BEGIN:VEVENT
UID:8ae50b28-404d-4224-8170-c9a18c7d3eb1@osaka-live.app
DTSTAMP:20260424T140227Z
DTSTART;TZID=Asia/Tokyo:20260707T1930:0000
DTEND;TZID=Asia/Tokyo:20260707T213000
SUMMARY:コンタクト
LOCATION:Namba BEARS\, Osaka\, Japan
DESCRIPTION:Adv ¥2,800 / Door ¥3,500\nDoors 19:00:00\nStart 19:30:00
END:VEVENT
END:VCALENDAR
