BEGIN:VCALENDAR
VERSION:2.0
PRODID:-//OsakaLive//OsakaLive//EN
CALSCALE:GREGORIAN
METHOD:PUBLISH
BEGIN:VEVENT
UID:8a1ded35-c615-471a-9a17-d3edeb9c52c9@osaka-live.app
DTSTAMP:20260424T154322Z
DTSTART;TZID=Asia/Tokyo:20260404T1830:0000
DTEND;TZID=Asia/Tokyo:20260404T203000
SUMMARY:Girl s Day
LOCATION:Americamura DROP\, Osaka\, Japan
DESCRIPTION:Doors 18:15:00\nStart 18:30:00
END:VEVENT
END:VCALENDAR
