BEGIN:VCALENDAR
VERSION:2.0
PRODID:-//OsakaLive//OsakaLive//EN
CALSCALE:GREGORIAN
METHOD:PUBLISH
BEGIN:VEVENT
UID:89cfbaa4-9678-42d2-bc1c-5c986f73b0eb@osaka-live.app
DTSTAMP:20260424T123356Z
DTSTART;TZID=Asia/Tokyo:20260425T0945:0000
DTEND;TZID=Asia/Tokyo:20260425T114500
SUMMARY:OSAKA HONEY WAVE
LOCATION:Americamura DROP\, Osaka\, Japan
DESCRIPTION:Doors 09:15:00\nStart 09:45:00
END:VEVENT
END:VCALENDAR
