BEGIN:VCALENDAR
VERSION:2.0
PRODID:-//OsakaLive//OsakaLive//EN
CALSCALE:GREGORIAN
METHOD:PUBLISH
BEGIN:VEVENT
UID:89427cf5-f18f-4a12-8fa8-4eed5bfb79b1@osaka-live.app
DTSTAMP:20260424T123858Z
DTSTART;TZID=Asia/Tokyo:20260403T1845:0000
DTEND;TZID=Asia/Tokyo:20260403T204500
SUMMARY:アキシブproject×ナナコロビヤオキ　special 2man 『ナナコロproject
LOCATION:Americamura DROP\, Osaka\, Japan
DESCRIPTION:Adv ¥4,000 / Door ¥1,000\nDoors 18:00:00\nStart 18:45:00
END:VEVENT
END:VCALENDAR
