BEGIN:VCALENDAR
VERSION:2.0
PRODID:-//OsakaLive//OsakaLive//EN
CALSCALE:GREGORIAN
METHOD:PUBLISH
BEGIN:VEVENT
UID:8912646d-c6cd-44dd-b1ce-3104042824cc@osaka-live.app
DTSTAMP:20260424T133640Z
DTSTART;TZID=Asia/Tokyo:20260711T1930:0000
DTEND;TZID=Asia/Tokyo:20260711T213000
SUMMARY:OOIOOのIは地平線
LOCATION:Namba BEARS\, Osaka\, Japan
DESCRIPTION:Adv ¥4,000 / Door ¥4,500\nDoors 19:00:00\nStart 19:30:00
END:VEVENT
END:VCALENDAR
