BEGIN:VCALENDAR
VERSION:2.0
PRODID:-//OsakaLive//OsakaLive//EN
CALSCALE:GREGORIAN
METHOD:PUBLISH
BEGIN:VEVENT
UID:88e95e9b-c461-462c-aa95-f6f3aa432a4f@osaka-live.app
DTSTAMP:20260424T134740Z
DTSTART;TZID=Asia/Tokyo:20260716T1830:0000
DTEND;TZID=Asia/Tokyo:20260716T203000
SUMMARY:山本精一with ハイパープレイグラウンド
LOCATION:Namba BEARS\, Osaka\, Japan
DESCRIPTION:Adv ¥1,500 / Door ¥1,500\nStart 18:30:00
END:VEVENT
END:VCALENDAR
