BEGIN:VCALENDAR
VERSION:2.0
PRODID:-//OsakaLive//OsakaLive//EN
CALSCALE:GREGORIAN
METHOD:PUBLISH
BEGIN:VEVENT
UID:87b016b9-e9eb-4b60-a390-3db58d5fd3b1@osaka-live.app
DTSTAMP:20260424T135019Z
DTSTART;VALUE=DATE:20260710
DTEND;VALUE=DATE:20260711
SUMMARY:クリトリック・リス　ワンマン
LOCATION:Namba BEARS\, Osaka\, Japan
END:VEVENT
END:VCALENDAR
