BEGIN:VCALENDAR
VERSION:2.0
PRODID:-//OsakaLive//OsakaLive//EN
CALSCALE:GREGORIAN
METHOD:PUBLISH
BEGIN:VEVENT
UID:8777ae2a-3b51-479b-8483-07d2ca95f2fc@osaka-live.app
DTSTAMP:20260424T134324Z
DTSTART;VALUE=DATE:20260702
DTEND;VALUE=DATE:20260703
SUMMARY:DMBQとLOSTAGE
LOCATION:Namba BEARS\, Osaka\, Japan
END:VEVENT
END:VCALENDAR
