BEGIN:VCALENDAR
VERSION:2.0
PRODID:-//OsakaLive//OsakaLive//EN
CALSCALE:GREGORIAN
METHOD:PUBLISH
BEGIN:VEVENT
UID:87752bfd-8df7-4239-88a5-c3d02b187490@osaka-live.app
DTSTAMP:20260424T140203Z
DTSTART;TZID=Asia/Tokyo:20260619T1900:0000
DTEND;TZID=Asia/Tokyo:20260619T210000
SUMMARY:IdolPunch presents ViolentPops vol.81
LOCATION:Namba BEARS\, Osaka\, Japan
DESCRIPTION:Adv ¥3,000 / Door ¥3,500\nDoors 18:30:00\nStart 19:00:00
END:VEVENT
END:VCALENDAR
