BEGIN:VCALENDAR
VERSION:2.0
PRODID:-//OsakaLive//OsakaLive//EN
CALSCALE:GREGORIAN
METHOD:PUBLISH
BEGIN:VEVENT
UID:86f06376-de9b-46a6-b916-f4d7baf60665@osaka-live.app
DTSTAMP:20260425T003950Z
DTSTART;VALUE=DATE:20270526
DTEND;VALUE=DATE:20270527
SUMMARY:■マッテオ・マンクーゾ／Matteo Mancuso
LOCATION:Grand Cube Osaka\, Osaka\, Japan
END:VEVENT
END:VCALENDAR
