BEGIN:VCALENDAR
VERSION:2.0
PRODID:-//OsakaLive//OsakaLive//EN
CALSCALE:GREGORIAN
METHOD:PUBLISH
BEGIN:VEVENT
UID:85d2bace-db17-4392-a553-85e0c5369a9a@osaka-live.app
DTSTAMP:20260424T134454Z
DTSTART;TZID=Asia/Tokyo:20260620T1800:0000
DTEND;TZID=Asia/Tokyo:20260620T200000
SUMMARY:thehawks presents -MUSICAL GUERRILLA-vol.38
LOCATION:Namba BEARS\, Osaka\, Japan
DESCRIPTION:Adv ¥2,500 / Door ¥3,000\nDoors 17:30:00\nStart 18:00:00
END:VEVENT
END:VCALENDAR
