BEGIN:VCALENDAR
VERSION:2.0
PRODID:-//OsakaLive//OsakaLive//EN
CALSCALE:GREGORIAN
METHOD:PUBLISH
BEGIN:VEVENT
UID:851292e0-a6ca-44bd-bdd8-df3cb441de1c@osaka-live.app
DTSTAMP:20260424T123232Z
DTSTART;VALUE=DATE:20270424
DTEND;VALUE=DATE:20270425
SUMMARY:■Contention
LOCATION:Hokage\, Chuo Ward\, Nishishinsaibashi 2-9-36\, Kasai Bldg B1F
END:VEVENT
END:VCALENDAR
