BEGIN:VCALENDAR
VERSION:2.0
PRODID:-//OsakaLive//OsakaLive//EN
CALSCALE:GREGORIAN
METHOD:PUBLISH
BEGIN:VEVENT
UID:83a9656e-bf73-407a-8d9f-d51cd40ac0ee@osaka-live.app
DTSTAMP:20260424T122248Z
DTSTART;TZID=Asia/Tokyo:20260504T1900:0000
DTEND;TZID=Asia/Tokyo:20260504T210000
SUMMARY:祝）夜の部
LOCATION:Namba BEARS\, Osaka\, Japan
DESCRIPTION:Adv ¥2,000 / Door ¥2,000\nDoors 18:30:00\nStart 19:00:00
END:VEVENT
END:VCALENDAR
