BEGIN:VCALENDAR
VERSION:2.0
PRODID:-//OsakaLive//OsakaLive//EN
CALSCALE:GREGORIAN
METHOD:PUBLISH
BEGIN:VEVENT
UID:83760144-1b73-4f88-900f-0fef7a76b037@osaka-live.app
DTSTAMP:20260424T122621Z
DTSTART;TZID=Asia/Tokyo:20260512T1900:0000
DTEND;TZID=Asia/Tokyo:20260512T210000
SUMMARY:タンツボサミット
LOCATION:Namba BEARS\, Osaka\, Japan
DESCRIPTION:Adv ¥2,000 / Door ¥2,000\nDoors 18:30:00\nStart 19:00:00
END:VEVENT
END:VCALENDAR
