BEGIN:VCALENDAR
VERSION:2.0
PRODID:-//OsakaLive//OsakaLive//EN
CALSCALE:GREGORIAN
METHOD:PUBLISH
BEGIN:VEVENT
UID:835d8311-75e0-4344-82ad-a06914cd4aaa@osaka-live.app
DTSTAMP:20260424T123613Z
DTSTART;TZID=Asia/Tokyo:20260516T1800:0000
DTEND;TZID=Asia/Tokyo:20260516T200000
SUMMARY:KIDDER企画『LessonNo\,9
LOCATION:Namba BEARS\, Osaka\, Japan
DESCRIPTION:Adv ¥2,500 / Door ¥1,500\nDoors 17:30:00\nStart 18:00:00
END:VEVENT
END:VCALENDAR
