BEGIN:VCALENDAR
VERSION:2.0
PRODID:-//OsakaLive//OsakaLive//EN
CALSCALE:GREGORIAN
METHOD:PUBLISH
BEGIN:VEVENT
UID:82e83739-e1ed-4380-a5af-0db221482536@osaka-live.app
DTSTAMP:20260424T123407Z
DTSTART;VALUE=DATE:20260420
DTEND;VALUE=DATE:20260421
SUMMARY:Zeela presents. YAMINABE DEATH MATCH!! ～YAMINABE 6th Anniversary～ D
 ay.3
LOCATION:Umeda Zeela\, Osaka\, Japan
END:VEVENT
END:VCALENDAR
