BEGIN:VCALENDAR
VERSION:2.0
PRODID:-//OsakaLive//OsakaLive//EN
CALSCALE:GREGORIAN
METHOD:PUBLISH
BEGIN:VEVENT
UID:82ab6c08-80b7-4bdb-bcf5-bf4b4a15620b@osaka-live.app
DTSTAMP:20260424T123436Z
DTSTART;VALUE=DATE:20260405
DTEND;VALUE=DATE:20260406
SUMMARY:talking girls
LOCATION:Umeda Zeela\, Osaka\, Japan
DESCRIPTION:Adv ¥2,300 / Door ¥1,800
END:VEVENT
END:VCALENDAR
