BEGIN:VCALENDAR
VERSION:2.0
PRODID:-//OsakaLive//OsakaLive//EN
CALSCALE:GREGORIAN
METHOD:PUBLISH
BEGIN:VEVENT
UID:8201bc29-fdf5-46f1-bd1c-c99cc5d7543a@osaka-live.app
DTSTAMP:20260425T003829Z
DTSTART;VALUE=DATE:20270510
DTEND;VALUE=DATE:20270511
SUMMARY:■フリーダム・コール／Freedom Call
LOCATION:Grand Cube Osaka\, Osaka\, Japan
END:VEVENT
END:VCALENDAR
