BEGIN:VCALENDAR
VERSION:2.0
PRODID:-//OsakaLive//OsakaLive//EN
CALSCALE:GREGORIAN
METHOD:PUBLISH
BEGIN:VEVENT
UID:7fd53b72-39bc-4b63-8f53-2f18074d3976@osaka-live.app
DTSTAMP:20260424T140005Z
DTSTART;VALUE=DATE:20260728
DTEND;VALUE=DATE:20260729
SUMMARY:※ベアーズ予約なし
LOCATION:Namba BEARS\, Osaka\, Japan
END:VEVENT
END:VCALENDAR
