BEGIN:VCALENDAR
VERSION:2.0
PRODID:-//OsakaLive//OsakaLive//EN
CALSCALE:GREGORIAN
METHOD:PUBLISH
BEGIN:VEVENT
UID:7f572663-860d-4dfb-b746-27b7eff60740@osaka-live.app
DTSTAMP:20260424T123737Z
DTSTART;TZID=Asia/Tokyo:20260421T1930:0000
DTEND;TZID=Asia/Tokyo:20260421T213000
SUMMARY:Yoonsung(韓国)JAPAN TOUR
LOCATION:Namba BEARS\, Osaka\, Japan
DESCRIPTION:Adv ¥2,500 / Door ¥3,000\nDoors 19:00:00\nStart 19:30:00
END:VEVENT
END:VCALENDAR
