BEGIN:VCALENDAR
VERSION:2.0
PRODID:-//OsakaLive//OsakaLive//EN
CALSCALE:GREGORIAN
METHOD:PUBLISH
BEGIN:VEVENT
UID:7eae2b9f-0737-42be-ac25-1661d5284192@osaka-live.app
DTSTAMP:20260424T123709Z
DTSTART;VALUE=DATE:20260418
DTEND;VALUE=DATE:20260419
SUMMARY:開催延期】THE MICRO HEAD 4N’S LAST TOUR「HELLO MY CLONE
LOCATION:Umeda Zeela\, Osaka\, Japan
DESCRIPTION:Adv ¥6,600 / Door ¥6,600
END:VEVENT
END:VCALENDAR
