BEGIN:VCALENDAR
VERSION:2.0
PRODID:-//OsakaLive//OsakaLive//EN
CALSCALE:GREGORIAN
METHOD:PUBLISH
BEGIN:VEVENT
UID:7dc5b6ff-68ea-41d4-8ad5-001c99ca8873@osaka-live.app
DTSTAMP:20260425T002951Z
DTSTART;VALUE=DATE:20270527
DTEND;VALUE=DATE:20270528
SUMMARY:■ジョー・アーモン・ジョーンズ／Joe Armon-Jones
LOCATION:Grand Cube Osaka\, Osaka\, Japan
END:VEVENT
END:VCALENDAR
