BEGIN:VCALENDAR
VERSION:2.0
PRODID:-//OsakaLive//OsakaLive//EN
CALSCALE:GREGORIAN
METHOD:PUBLISH
BEGIN:VEVENT
UID:7dbc10e5-c3ee-4cbd-bda4-ee966262d55c@osaka-live.app
DTSTAMP:20260424T121535Z
DTSTART;TZID=Asia/Tokyo:20260509T1530:0000
DTEND;TZID=Asia/Tokyo:20260509T173000
SUMMARY:DOTHEMOSH TOURS 2026
LOCATION:Yogibo META VALLEY\, Osaka\, Japan
DESCRIPTION:Adv ¥12,800 / Door ¥3,800\nDoors 15:00:00\nStart 15:30:00
END:VEVENT
END:VCALENDAR
