BEGIN:VCALENDAR
VERSION:2.0
PRODID:-//OsakaLive//OsakaLive//EN
CALSCALE:GREGORIAN
METHOD:PUBLISH
BEGIN:VEVENT
UID:7be99708-3444-4a06-99d2-8410127c3de6@osaka-live.app
DTSTAMP:20260424T123715Z
DTSTART;VALUE=DATE:20260412
DTEND;VALUE=DATE:20260413
SUMMARY:OSAKA GIGANTIC MUSIC FESTIVAL 2026 SPIN-OFF「THE BONDS 2026」 GIGANTI
 C TOWN MEETING -THANKS 10TH GIGA
LOCATION:Umeda Zeela\, Osaka\, Japan
DESCRIPTION:Adv ¥5,500 / Door ¥700
END:VEVENT
END:VCALENDAR
