BEGIN:VCALENDAR
VERSION:2.0
PRODID:-//OsakaLive//OsakaLive//EN
CALSCALE:GREGORIAN
METHOD:PUBLISH
BEGIN:VEVENT
UID:7a3a2c1a-b424-460a-ba24-7a04876ebd21@osaka-live.app
DTSTAMP:20260424T134243Z
DTSTART;TZID=Asia/Tokyo:20260530T1930:0000
DTEND;TZID=Asia/Tokyo:20260530T213000
SUMMARY:Laget's Jam Stack Live Tour "rit." 大阪編
LOCATION:Namba BEARS\, Osaka\, Japan
DESCRIPTION:Adv ¥3,000 / Door ¥3,500\nDoors 19:00:00\nStart 19:30:00
END:VEVENT
END:VCALENDAR
