BEGIN:VCALENDAR
VERSION:2.0
PRODID:-//OsakaLive//OsakaLive//EN
CALSCALE:GREGORIAN
METHOD:PUBLISH
BEGIN:VEVENT
UID:7651ad42-7451-4c9b-b220-d3413fce21f5@osaka-live.app
DTSTAMP:20260424T140057Z
DTSTART;TZID=Asia/Tokyo:20260704T1200:0000
DTEND;TZID=Asia/Tokyo:20260704T140000
SUMMARY:THE KNOCKERS
LOCATION:Namba BEARS\, Osaka\, Japan
DESCRIPTION:Adv ¥2,500 / Door ¥1,000\nDoors 11:30:00\nStart 12:00:00
END:VEVENT
END:VCALENDAR
