BEGIN:VCALENDAR
VERSION:2.0
PRODID:-//OsakaLive//OsakaLive//EN
CALSCALE:GREGORIAN
METHOD:PUBLISH
BEGIN:VEVENT
UID:7613676e-93b2-479d-a01a-953c2a8b50d8@osaka-live.app
DTSTAMP:20260424T140540Z
DTSTART;TZID=Asia/Tokyo:20260521T1930:0000
DTEND;TZID=Asia/Tokyo:20260521T213000
SUMMARY:#BEMYLOVE ワンマンライブ 2026 春
LOCATION:Yogibo META VALLEY\, Osaka\, Japan
DESCRIPTION:Adv ¥3,500 / Door ¥5,000\nDoors 19:00:00\nStart 19:30:00
END:VEVENT
END:VCALENDAR
