BEGIN:VCALENDAR
VERSION:2.0
PRODID:-//OsakaLive//OsakaLive//EN
CALSCALE:GREGORIAN
METHOD:PUBLISH
BEGIN:VEVENT
UID:72703694-d5e2-40d6-b767-1871dba2c051@osaka-live.app
DTSTAMP:20260424T134524Z
DTSTART;TZID=Asia/Tokyo:20260628T1230:0000
DTEND;TZID=Asia/Tokyo:20260628T143000
SUMMARY:Merry Ghosts presents
LOCATION:Namba BEARS\, Osaka\, Japan
DESCRIPTION:Adv ¥2,000 / Door ¥2,300\nDoors 12:00:00\nStart 12:30:00
END:VEVENT
END:VCALENDAR
